BEGIN:VCALENDAR
VERSION:2.0
CALSCALE:GREGORIAN
BEGIN:VEVENT
SUMMARY:Festivalito Candela
DTSTART;TZID=Europe/Berlin:20250927T151500
DTEND;TZID=Europe/Berlin:20250927T235900
LOCATION:Lechstraße 8\, 86899 Landsberg\, DE
DESCRIPTION:2. Festivalito in Landsberg Showauftritt von Alexa Yepes und Edwin Espinosa\, DJ Baki aus München\, Workshops und Milonga ab 20.00\, Karten über Info@licca-tango.de oder an der Abendkasse
STATUS:CONFIRMED
ORGANIZER:mailto:info@licca-tango.de
SEQUENCE:3
BEGIN:VALARM
TRIGGER:-PT120M
ACTION:DISPLAY
END:VALARM
END:VEVENT
END:VCALENDAR
