BEGIN:VCALENDAR
VERSION:2.0
CALSCALE:GREGORIAN
BEGIN:VEVENT
SUMMARY:TANGO maldito Milonga 
DTSTART;TZID=Europe/Berlin:20250801T210000
DTEND;TZID=Europe/Berlin:20250801T010000
LOCATION:Neumarkter Straße 71\, 81673 München\, DE
DESCRIPTION:Die Milonga für Aficionados ab 21.00 Uhr\nDJ Baki Vertiola\n18.00 - 19.30 Kurs für Anfänger II Mittelstufe I\n19.30 - 21.00 Kurs für Fortgeschrittene
STATUS:CONFIRMED
ORGANIZER:mailto:info@tango-maldito.de
SEQUENCE:3
BEGIN:VALARM
TRIGGER:-PT120M
ACTION:DISPLAY
END:VALARM
END:VEVENT
END:VCALENDAR
